BEGIN:VCALENDAR
VERSION:2.0
PRODID:-//Bournemouth Hebrew Congregation - ECPv6.15.20//NONSGML v1.0//EN
CALSCALE:GREGORIAN
METHOD:PUBLISH
X-ORIGINAL-URL:https://www.bhcshul.co.uk
X-WR-CALDESC:Events for Bournemouth Hebrew Congregation
REFRESH-INTERVAL;VALUE=DURATION:PT1H
X-Robots-Tag:noindex
X-PUBLISHED-TTL:PT1H
BEGIN:VTIMEZONE
TZID:Europe/London
BEGIN:DAYLIGHT
TZOFFSETFROM:+0000
TZOFFSETTO:+0100
TZNAME:BST
DTSTART:20120325T010000
END:DAYLIGHT
BEGIN:STANDARD
TZOFFSETFROM:+0100
TZOFFSETTO:+0000
TZNAME:GMT
DTSTART:20121028T010000
END:STANDARD
BEGIN:DAYLIGHT
TZOFFSETFROM:+0000
TZOFFSETTO:+0100
TZNAME:BST
DTSTART:20130331T010000
END:DAYLIGHT
BEGIN:STANDARD
TZOFFSETFROM:+0100
TZOFFSETTO:+0000
TZNAME:GMT
DTSTART:20131027T010000
END:STANDARD
BEGIN:DAYLIGHT
TZOFFSETFROM:+0000
TZOFFSETTO:+0100
TZNAME:BST
DTSTART:20140330T010000
END:DAYLIGHT
BEGIN:STANDARD
TZOFFSETFROM:+0100
TZOFFSETTO:+0000
TZNAME:GMT
DTSTART:20141026T010000
END:STANDARD
BEGIN:DAYLIGHT
TZOFFSETFROM:+0000
TZOFFSETTO:+0100
TZNAME:BST
DTSTART:20150329T010000
END:DAYLIGHT
BEGIN:STANDARD
TZOFFSETFROM:+0100
TZOFFSETTO:+0000
TZNAME:GMT
DTSTART:20151025T010000
END:STANDARD
BEGIN:DAYLIGHT
TZOFFSETFROM:+0000
TZOFFSETTO:+0100
TZNAME:BST
DTSTART:20160327T010000
END:DAYLIGHT
BEGIN:STANDARD
TZOFFSETFROM:+0100
TZOFFSETTO:+0000
TZNAME:GMT
DTSTART:20161030T010000
END:STANDARD
BEGIN:DAYLIGHT
TZOFFSETFROM:+0000
TZOFFSETTO:+0100
TZNAME:BST
DTSTART:20170326T010000
END:DAYLIGHT
BEGIN:STANDARD
TZOFFSETFROM:+0100
TZOFFSETTO:+0000
TZNAME:GMT
DTSTART:20171029T010000
END:STANDARD
BEGIN:DAYLIGHT
TZOFFSETFROM:+0000
TZOFFSETTO:+0100
TZNAME:BST
DTSTART:20180325T010000
END:DAYLIGHT
BEGIN:STANDARD
TZOFFSETFROM:+0100
TZOFFSETTO:+0000
TZNAME:GMT
DTSTART:20181028T010000
END:STANDARD
BEGIN:DAYLIGHT
TZOFFSETFROM:+0000
TZOFFSETTO:+0100
TZNAME:BST
DTSTART:20190331T010000
END:DAYLIGHT
BEGIN:STANDARD
TZOFFSETFROM:+0100
TZOFFSETTO:+0000
TZNAME:GMT
DTSTART:20191027T010000
END:STANDARD
BEGIN:DAYLIGHT
TZOFFSETFROM:+0000
TZOFFSETTO:+0100
TZNAME:BST
DTSTART:20200329T010000
END:DAYLIGHT
BEGIN:STANDARD
TZOFFSETFROM:+0100
TZOFFSETTO:+0000
TZNAME:GMT
DTSTART:20201025T010000
END:STANDARD
END:VTIMEZONE
BEGIN:VEVENT
DTSTART;TZID=Europe/London:20190708T200000
DTEND;TZID=Europe/London:20190708T210059
DTSTAMP:20260420T150149
CREATED:20190613T115623Z
LAST-MODIFIED:20190613T115623Z
UID:5353-1562616000-1562619659@www.bhcshul.co.uk
SUMMARY:Adult Education
DESCRIPTION:A talk by Rabbi Jesner entitled ‘Events of the month of Tammuz’
URL:https://www.bhcshul.co.uk/event/adult-education-4/
LOCATION:Menorah Suite\, Glen Fern Road\, Bournemouth\, United Kingdom
CATEGORIES:Adult Education,Main Events
END:VEVENT
BEGIN:VEVENT
DTSTART;TZID=Europe/London:20190624T080000
DTEND;TZID=Europe/London:20190624T210059
DTSTAMP:20260420T150149
CREATED:20190606T174520Z
LAST-MODIFIED:20190606T174530Z
UID:5336-1561363200-1561410059@www.bhcshul.co.uk
SUMMARY:Adult Education
DESCRIPTION:A talk by Ken Cohen on ‘Jewish Genealogy’.
URL:https://www.bhcshul.co.uk/event/adult-education-3/
LOCATION:Menorah Suite\, Glen Fern Road\, Bournemouth\, United Kingdom
CATEGORIES:Adult Education,Main Events
END:VEVENT
BEGIN:VEVENT
DTSTART;TZID=Europe/London:20190617T200000
DTEND;TZID=Europe/London:20190617T213059
DTSTAMP:20260420T150149
CREATED:20190531T124107Z
LAST-MODIFIED:20190531T124107Z
UID:5325-1560801600-1560807059@www.bhcshul.co.uk
SUMMARY:Adult Education
DESCRIPTION:This evening’s Adult Education session is presented by Chris Woodward\, ‘The Palladium and Jewish Connections’. All welcome.
URL:https://www.bhcshul.co.uk/event/adult-education-2/
LOCATION:Menorah Suite\, Glen Fern Road\, Bournemouth\, United Kingdom
CATEGORIES:Adult Education,Main Events
END:VEVENT
BEGIN:VEVENT
DTSTART;TZID=Europe/London:20190408T193000
DTEND;TZID=Europe/London:20190408T210059
DTSTAMP:20260420T150149
CREATED:20190308T140152Z
LAST-MODIFIED:20190308T140152Z
UID:5252-1554751800-1554757259@www.bhcshul.co.uk
SUMMARY:Adult Education Session 5
DESCRIPTION:Presented by Rebbetzen Pamela Jesner ‘Preparing for Pesach’.
URL:https://www.bhcshul.co.uk/event/adult-education-session-5/
LOCATION:Menorah Suite\, Glen Fern Road\, Bournemouth\, United Kingdom
CATEGORIES:Adult Education
END:VEVENT
BEGIN:VEVENT
DTSTART;TZID=Europe/London:20190401T193000
DTEND;TZID=Europe/London:20190401T210059
DTSTAMP:20260420T150149
CREATED:20190308T140011Z
LAST-MODIFIED:20190308T140011Z
UID:5249-1554147000-1554152459@www.bhcshul.co.uk
SUMMARY:Adult Education Session 4
DESCRIPTION:Presented by David Harris ‘A Four Sites Saga: The Story of JFS’
URL:https://www.bhcshul.co.uk/event/adult-education-session-4/
LOCATION:Menorah Suite\, Glen Fern Road\, Bournemouth\, United Kingdom
CATEGORIES:Adult Education
END:VEVENT
BEGIN:VEVENT
DTSTART;TZID=Europe/London:20180813T193000
DTEND;TZID=Europe/London:20180813T210059
DTSTAMP:20260420T150149
CREATED:20180720T080552Z
LAST-MODIFIED:20180720T080559Z
UID:4979-1534188600-1534194059@www.bhcshul.co.uk
SUMMARY:Adult Education Lecture
DESCRIPTION:BHC is privileged to welcome Professor Dan Michman\, who will give the first in a series of lectures by visiting scholars\, entitled: ‘Righteous Among Nations:  the History of an Unprecedented Commemorative Category’ at 7.30pm in the Menorah Suite.  There is no charge for this lecture\, but for security reasons please reserve your seat with the Shul office in advance.
URL:https://www.bhcshul.co.uk/event/adult-education-lecture/
LOCATION:Menorah Suite\, Glen Fern Road\, Bournemouth\, United Kingdom
CATEGORIES:Adult Education,Main Events
END:VEVENT
BEGIN:VEVENT
DTSTART;TZID=Europe/London:20180530T110000
DTEND;TZID=Europe/London:20180530T130059
DTSTAMP:20260420T150149
CREATED:20171221T125349Z
LAST-MODIFIED:20180524T152108Z
UID:4771-1527678000-1527685259@www.bhcshul.co.uk
SUMMARY:History of Zionism
DESCRIPTION:Ivor Weintroub’s talks on the History of Zionism will continue next term for a further 8 weeks. They will commence on 25 April and will be held  at 11.00 – 12.30 pm in Room 6\, Moordown Community Centre\, Coronation Avenue\, Moordown\, Bournemouth BH9 1TW. For further information about attending please contact Bournemouth U3A\, c/o St James Institute\, 33A Stourfield Road\, Bournemouth BH5 2AR\, phone 01202 420700 weekdays between 10.00 am to 12 noon or email info@bournemouthu3a.org.uk
URL:https://www.bhcshul.co.uk/event/history-zionism/
LOCATION:St James Institute\, Bournemouth\, United Kingdom
CATEGORIES:Adult Education
END:VEVENT
BEGIN:VEVENT
DTSTART;TZID=Europe/London:20180214T140000
DTEND;TZID=Europe/London:20180214T150059
DTSTAMP:20260420T150149
CREATED:20171221T125220Z
LAST-MODIFIED:20180208T131926Z
UID:4769-1518616800-1518620459@www.bhcshul.co.uk
SUMMARY:A Crash Course in Torah
DESCRIPTION:Week 5 of A Crash Course in Torah in the Menorah Suite. A 5-week course\, introducing and explaining one book of the Torah each week. This week we shall learn about the Book of Exodus. Everyone welcome. Tea and coffee served.
URL:https://www.bhcshul.co.uk/event/a-crash-course-torah/
LOCATION:Gertrude Preston\, Wootton Gardens\, Bournemouth\, United Kingdom
CATEGORIES:Adult Education,Main Events
END:VEVENT
BEGIN:VEVENT
DTSTART;TZID=Europe/London:20170814T193000
DTEND;TZID=Europe/London:20170814T210059
DTSTAMP:20260420T150149
CREATED:20170629T113628Z
LAST-MODIFIED:20170629T113641Z
UID:4554-1502739000-1502744459@www.bhcshul.co.uk
SUMMARY:Adult Education - WJR Archives
DESCRIPTION:Adult Education with Guest Speaker Rebecca Singer\, World Jewish Relief Communications Officer\,  will share examples of records held in the WJR Archives\, including the 10\,000 children on the Kindertransport saved from the Nazis.
URL:https://www.bhcshul.co.uk/event/adult-education-wjr-archives/
LOCATION:Menorah Suite\, Glen Fern Road\, Bournemouth\, United Kingdom
CATEGORIES:Adult Education
END:VEVENT
BEGIN:VEVENT
DTSTART;TZID=Europe/London:20170607T140000
DTEND;TZID=Europe/London:20170607T150059
DTSTAMP:20260420T150149
CREATED:20170406T131835Z
LAST-MODIFIED:20170601T132827Z
UID:4444-1496844000-1496847659@www.bhcshul.co.uk
SUMMARY:A Crash Course in Jewish History
DESCRIPTION:The 6th and final week of this popular course with video and discussions commencing  2.00 pm in the Menorah Suite. The Course covers the 5777 year history of the Jewish People. All welcome. Free admission. Tea & Coffee served. Please use Glen Fern Road entrance.
URL:https://www.bhcshul.co.uk/event/crash-course-jewish-history/
LOCATION:Menorah Suite\, Glen Fern Road\, Bournemouth\, United Kingdom
CATEGORIES:Adult Education,Main Events
END:VEVENT
BEGIN:VEVENT
DTSTART;TZID=Europe/London:20161206T194500
DTEND;TZID=Europe/London:20161206T210059
DTSTAMP:20260420T150150
CREATED:20161111T092341Z
LAST-MODIFIED:20161111T092701Z
UID:4124-1481053500-1481058059@www.bhcshul.co.uk
SUMMARY:Adult Education
DESCRIPTION:There will be a series of two talks to take place on Monday 28th November and Tuesday 6th December 2016 to be given by Ivor Weintroub entitled “The Suez Crisis and the Sinai Campaign 60 years on\, a retrospective consideration of the political and military conflict” \nThe first talk on Monday 28th November will take place in the Menorah Suite to start at 7.45 pm. The second talk on Tuesday 6th December 2016\, at the speaker’s suggestion\, and with the consent of Chabad\, will take place at Chabad Lansdowne Road at 7.45 pm.
URL:https://www.bhcshul.co.uk/event/4124/
LOCATION:Chabad\, Bournemouth\, United Kingdom
CATEGORIES:Adult Education
END:VEVENT
BEGIN:VEVENT
DTSTART;TZID=Europe/London:20161128T194500
DTEND;TZID=Europe/London:20161128T213059
DTSTAMP:20260420T150150
CREATED:20161104T154939Z
LAST-MODIFIED:20161111T092223Z
UID:4114-1480362300-1480368659@www.bhcshul.co.uk
SUMMARY:Adult Education
DESCRIPTION:There will be a series of two talks to take place on Monday 28th November and Tuesday 6th December 2016 to be given by Ivor Weintroub entitled “The Suez Crisis and the Sinai Campaign 60 years on\, a retrospective consideration of the political and military conflict” \nThe first talk on Monday 28th November will take place in the Menorah Suite to start at 7.45 pm. The second talk on Tuesday 6th December 2016\, at the speaker’s suggestion\, and with the consent of Chabad\, will take place at Chabad Lansdowne Road at 7.45 pm.
URL:https://www.bhcshul.co.uk/event/adult-education/
LOCATION:Bournemouth\, United Kingdom
CATEGORIES:Adult Education
END:VEVENT
BEGIN:VEVENT
DTSTART;TZID=Europe/London:20151102T200000
DTEND;TZID=Europe/London:20151102T220059
DTSTAMP:20260420T150150
CREATED:20151009T082736Z
LAST-MODIFIED:20151009T082736Z
UID:3565-1446494400-1446501659@www.bhcshul.co.uk
SUMMARY:Adult Education - Film
DESCRIPTION:Adult Education will be showing a film entitled ‘In Our Own Hands:  The Hidden History of the Jewish Brigade in World War 2’ .  The film will commence at 8.00 pm in the Menorah Suite.  Admission Free.
URL:https://www.bhcshul.co.uk/event/adult-education-film/
LOCATION:Menorah Suite\, Glen Fern Road\, Bournemouth\, United Kingdom
CATEGORIES:Adult Education
END:VEVENT
BEGIN:VEVENT
DTSTART;TZID=Europe/London:20140217T200000
DTEND;TZID=Europe/London:20140217T210059
DTSTAMP:20260420T150150
CREATED:20140203T092242Z
LAST-MODIFIED:20140203T092439Z
UID:2113-1392667200-1392670859@www.bhcshul.co.uk
SUMMARY:Kabbalah on Skype - Session 3
DESCRIPTION:The fourth of a five part introduction to Kabbalah course which is called ‘Kabbalah 101’. It is presented by Rabbi Amichai Cohen of Tzfat. \nIt explores what Kabbalah is\, its origins\, myths\, legend and practice implantation in bettering our lives. \nSession 3: \n\n– How does an infinite God create and relate to a finite world? \n-The Sefirot\, the 10 emanations. What are they and how do we get in touch with them?
URL:https://www.bhcshul.co.uk/event/kabbalah-skype-session-3-2/
LOCATION:Menorah Suite\, Glen Fern Road\, Bournermouth\, United Kingdom
CATEGORIES:Adult Education
END:VEVENT
BEGIN:VEVENT
DTSTART;TZID=Europe/London:20140210T200000
DTEND;TZID=Europe/London:20140210T210059
DTSTAMP:20260420T150150
CREATED:20140204T195026Z
LAST-MODIFIED:20140204T195026Z
UID:2117-1392062400-1392066059@www.bhcshul.co.uk
SUMMARY:Adult Education - Introduction to Kaballah
DESCRIPTION:This evening’s Adult Education session will consist of a video  called “Introduction to Kabbalah” by Rabbi Mordechai Becher. \nRabbi Becher is originally from Australia\, and a senior lecturer for the Gateways Organization which nurtures and su stains Jewish identity\, strengthens a connection to Israel and empowers participants to make informed decisions about their Jewish future.  He has lectured in Israel\, England\, South Africa\, Canada and Russia\, and served as chaplain in the I.D.F. \nRabbi Becher is the co-author of ‘After the Return’\, and has developed Judaica websites and software. He received his ordination from the Chief Rabbinate of Israel.
URL:https://www.bhcshul.co.uk/event/adult-education-introduction-kaballah/
LOCATION:Menorah Suite\, Glen Fern Road\, Bournermouth\, United Kingdom
CATEGORIES:Adult Education
END:VEVENT
BEGIN:VEVENT
DTSTART;TZID=Europe/London:20131209T200000
DTEND;TZID=Europe/London:20131209T213059
DTSTAMP:20260420T150150
CREATED:20131009T082926Z
LAST-MODIFIED:20131009T082939Z
UID:1949-1386619200-1386624659@www.bhcshul.co.uk
SUMMARY:Joseph and His Brothers
DESCRIPTION:A talk by Gerald Normie.
URL:https://www.bhcshul.co.uk/event/joseph-brothers/
LOCATION:Menorah Suite\, Glen Fern Road\, Bournermouth\, United Kingdom
CATEGORIES:Adult Education
END:VEVENT
BEGIN:VEVENT
DTSTART;TZID=Europe/London:20131111T200000
DTEND;TZID=Europe/London:20131111T213059
DTSTAMP:20260420T150150
CREATED:20131009T082513Z
LAST-MODIFIED:20131009T082513Z
UID:1945-1384200000-1384205459@www.bhcshul.co.uk
SUMMARY:Isaac(Isaak) Babel: A Jewish Revolutionary Writer
DESCRIPTION:Dr. Neil Landsman\, Principal lecturer at School of Languages and Area Studies at University of Portsmouth\, presents an intriguing talk about Isaac Babel\, considered by some as the “the greatest prose writer of Russian Jewry”. \nIsaac Babel\, born in Odessa in 1894\, was a Russian language writer famous for his plays and short stories. He fell victim to Stalin’s Great Purge and was arrested and imprisoned. After ‘confessing’ under torture to being a terrorist and a spy\, in January 1940 he was executed in prison. In 1954\, during the Khrushchev era\, the charges against him were revoked as being baseless.
URL:https://www.bhcshul.co.uk/event/isaacisaak-babel-a-jewish-revolutionary-writer/
LOCATION:Menorah Suite\, Glen Fern Road\, Bournermouth\, United Kingdom
CATEGORIES:Adult Education
END:VEVENT
BEGIN:VEVENT
DTSTART;TZID=Europe/London:20131104T200000
DTEND;TZID=Europe/London:20131104T213059
DTSTAMP:20260420T150150
CREATED:20131009T081421Z
LAST-MODIFIED:20131009T081421Z
UID:1943-1383595200-1383600659@www.bhcshul.co.uk
SUMMARY:Film - Rewriting history
DESCRIPTION:The film is about the rewriting of the history of the Holocaust in contemporary Lithuania\, the emergence of ‘double genocide’ in the EU and the concomitant rise of anti-Semitism in Lithuania and Eastern Europe\, including the investigation of Holocaust survivor partisans for war crimes.
URL:https://www.bhcshul.co.uk/event/film-rewriting-history/
LOCATION:Menorah Suite\, Glen Fern Road\, Bournermouth\, United Kingdom
CATEGORIES:Adult Education
END:VEVENT
BEGIN:VEVENT
DTSTART;TZID=Europe/London:20130715T200000
DTEND;TZID=Europe/London:20130715T213059
DTSTAMP:20260420T150150
CREATED:20130305T085854Z
LAST-MODIFIED:20130305T085854Z
UID:1366-1373918400-1373923859@www.bhcshul.co.uk
SUMMARY:Synagogue service: Megillah reading of Lamentations
DESCRIPTION:Details to follow.
URL:https://www.bhcshul.co.uk/event/synagogue-service-megillah-reading-lamentations/
LOCATION:Menorah Suite\, Glen Fern Road\, Bournermouth\, United Kingdom
CATEGORIES:Adult Education
END:VEVENT
BEGIN:VEVENT
DTSTART;TZID=Europe/London:20130624T200000
DTEND;TZID=Europe/London:20130624T213059
DTSTAMP:20260420T150150
CREATED:20130305T085154Z
LAST-MODIFIED:20130305T085154Z
UID:1358-1372104000-1372109459@www.bhcshul.co.uk
SUMMARY:The Three Weeks
DESCRIPTION:by Rabbi Adrian Jesner.
URL:https://www.bhcshul.co.uk/event/the-three-weeks/
LOCATION:Menorah Suite\, Glen Fern Road\, Bournermouth\, United Kingdom
CATEGORIES:Adult Education
END:VEVENT
BEGIN:VEVENT
DTSTART;TZID=Europe/London:20130617T200000
DTEND;TZID=Europe/London:20130617T213059
DTSTAMP:20260420T150150
CREATED:20130305T085032Z
LAST-MODIFIED:20130305T085032Z
UID:1356-1371499200-1371504659@www.bhcshul.co.uk
SUMMARY:The Significance of the Bible in Jewish Culture
DESCRIPTION:The Parkes Institute for Jewish/ non-Jewish Relations \nThe University of Southampton  \nBournemouth Mini Lecture Series Summer 2013 \nImages of Jewish Identity 1 \nA lecture by Dr. Helen Spurling.
URL:https://www.bhcshul.co.uk/event/the-significance-bible-jewish-culture/
LOCATION:Menorah Suite\, Glen Fern Road\, Bournermouth\, United Kingdom
CATEGORIES:Adult Education
END:VEVENT
BEGIN:VEVENT
DTSTART;TZID=Europe/London:20130610T200000
DTEND;TZID=Europe/London:20130610T213059
DTSTAMP:20260420T150150
CREATED:20130305T084719Z
LAST-MODIFIED:20130305T084719Z
UID:1354-1370894400-1370899859@www.bhcshul.co.uk
SUMMARY:British Jewish Youth Movements
DESCRIPTION:The Parkes Institute for Jewish/ non-Jewish Relations \nThe University of Southampton  \nBournemouth Mini Lecture Series Summer 2013 \n\nImages of Jewish Identity 1 \nA lecture by Dr. Tom Plant
URL:https://www.bhcshul.co.uk/event/british-jewish-youth-movements/
LOCATION:Menorah Suite\, Glen Fern Road\, Bournermouth\, United Kingdom
CATEGORIES:Adult Education
END:VEVENT
END:VCALENDAR